BEGIN:VCALENDAR
VERSION:2.0
PRODID:icalendar-ruby
CALSCALE:GREGORIAN
METHOD:PUBLISH
BEGIN:VEVENT
DTSTAMP:20260424T222727Z
UID:6-460439@ortingbaptist.com
DTSTART:20261012T003000Z
DTEND:20261012T020000Z
CLASS:PUBLIC
CREATED:20260424T133449
DESCRIPTION:\n\nGod has a plan and a purpose for your life.  Let’s disco
 ver it together.\n\n\n\n\n
LAST-MODIFIED:20260424T133449
LOCATION:
SUMMARY:Youth Group (7th-12th Grades)
URL;VALUE=URI:https://ortingbaptist.com/events/youth-group-7th-12th-grades/
 2026-10-11
ATTACH;FILENAME=Youth3.jpg;FMTTYPE=image/jpeg:https://dq5pwpg1q8ru0.cloudfr
 ont.net/2024/02/28/20/31/37/9387a574-8b75-442f-94a4-4e70acb1b083/Youth3.jp
 g
END:VEVENT
END:VCALENDAR
